BEGIN:VCALENDAR
VERSION:2.0
PRODID:-//Visit Ulstein - ECPv6.15.20//NONSGML v1.0//EN
CALSCALE:GREGORIAN
METHOD:PUBLISH
X-WR-CALNAME:Visit Ulstein
X-ORIGINAL-URL:https://visitulstein.no
X-WR-CALDESC:Arrangement for Visit Ulstein
REFRESH-INTERVAL;VALUE=DURATION:PT1H
X-Robots-Tag:noindex
X-PUBLISHED-TTL:PT1H
BEGIN:VTIMEZONE
TZID:Europe/Oslo
BEGIN:DAYLIGHT
TZOFFSETFROM:+0100
TZOFFSETTO:+0200
TZNAME:CEST
DTSTART:20250330T010000
END:DAYLIGHT
BEGIN:STANDARD
TZOFFSETFROM:+0200
TZOFFSETTO:+0100
TZNAME:CET
DTSTART:20251026T010000
END:STANDARD
BEGIN:DAYLIGHT
TZOFFSETFROM:+0100
TZOFFSETTO:+0200
TZNAME:CEST
DTSTART:20260329T010000
END:DAYLIGHT
BEGIN:STANDARD
TZOFFSETFROM:+0200
TZOFFSETTO:+0100
TZNAME:CET
DTSTART:20261025T010000
END:STANDARD
BEGIN:DAYLIGHT
TZOFFSETFROM:+0100
TZOFFSETTO:+0200
TZNAME:CEST
DTSTART:20270328T010000
END:DAYLIGHT
BEGIN:STANDARD
TZOFFSETFROM:+0200
TZOFFSETTO:+0100
TZNAME:CET
DTSTART:20271031T010000
END:STANDARD
END:VTIMEZONE
BEGIN:VEVENT
DTSTART;TZID=Europe/Oslo:20260423T180000
DTEND;TZID=Europe/Oslo:20260423T190000
DTSTAMP:20260423T135138
CREATED:20260407T140516Z
LAST-MODIFIED:20260407T140516Z
UID:23415-1776967200-1776970800@visitulstein.no
SUMMARY:Michael
DESCRIPTION:
URL:https://visitulstein.no/kalender/michael-3/
CATEGORIES:Kino
ATTACH;FMTTYPE=image/jpeg:https://visitulstein.no/wp-content/uploads/2026/03/370c58ee486a2020286259bb4e07331df838253b-4000x2162-1.jpg
END:VEVENT
BEGIN:VEVENT
DTSTART;TZID=Europe/Oslo:20260423T204500
DTEND;TZID=Europe/Oslo:20260423T214500
DTSTAMP:20260423T135138
CREATED:20260407T140517Z
LAST-MODIFIED:20260407T140517Z
UID:23420-1776977100-1776980700@visitulstein.no
SUMMARY:Saltstien
DESCRIPTION:
URL:https://visitulstein.no/kalender/saltstien-2/
CATEGORIES:Kino
ATTACH;FMTTYPE=image/jpeg:https://visitulstein.no/wp-content/uploads/2026/03/68a8d94128050ebb74de88b1c62ce31ee9e0a99d-4000x2667-1.jpg
END:VEVENT
BEGIN:VEVENT
DTSTART;TZID=Europe/Oslo:20260424T180000
DTEND;TZID=Europe/Oslo:20260424T190000
DTSTAMP:20260423T135138
CREATED:20260326T150508Z
LAST-MODIFIED:20260326T150508Z
UID:23309-1777053600-1777057200@visitulstein.no
SUMMARY:Michael
DESCRIPTION:
URL:https://visitulstein.no/kalender/michael-2/
CATEGORIES:Kino
ATTACH;FMTTYPE=image/jpeg:https://visitulstein.no/wp-content/uploads/2026/03/370c58ee486a2020286259bb4e07331df838253b-4000x2162-1.jpg
END:VEVENT
BEGIN:VEVENT
DTSTART;TZID=Europe/Oslo:20260424T204500
DTEND;TZID=Europe/Oslo:20260424T214500
DTSTAMP:20260423T135138
CREATED:20260326T150508Z
LAST-MODIFIED:20260326T150508Z
UID:23308-1777063500-1777067100@visitulstein.no
SUMMARY:Lee Cronin's The Mummy
DESCRIPTION:
URL:https://visitulstein.no/kalender/lee-cronins-the-mummy-3/
CATEGORIES:Kino
ATTACH;FMTTYPE=image/jpeg:https://visitulstein.no/wp-content/uploads/2026/03/b19fa6372e05682932073b945a2210e134d2a2c6-4000x1676-1.jpg
END:VEVENT
BEGIN:VEVENT
DTSTART;TZID=Europe/Oslo:20260425T150000
DTEND;TZID=Europe/Oslo:20260425T160000
DTSTAMP:20260423T135138
CREATED:20260407T140516Z
LAST-MODIFIED:20260407T140516Z
UID:23413-1777129200-1777132800@visitulstein.no
SUMMARY:Bamse og havets hemmelighet
DESCRIPTION:
URL:https://visitulstein.no/kalender/bamse-og-havets-hemmelighet-3/
CATEGORIES:Kino
ATTACH;FMTTYPE=image/jpeg:https://visitulstein.no/wp-content/uploads/2026/03/3f60ee346ee2853737e4dbaf858b1c8f7b98c6dd-3072x1286-1.jpg
END:VEVENT
BEGIN:VEVENT
DTSTART;TZID=Europe/Oslo:20260425T151500
DTEND;TZID=Europe/Oslo:20260425T161500
DTSTAMP:20260423T135138
CREATED:20260408T080508Z
LAST-MODIFIED:20260408T080508Z
UID:23428-1777130100-1777133700@visitulstein.no
SUMMARY:Krølle Bølle
DESCRIPTION:
URL:https://visitulstein.no/kalender/krolle-bolle/
CATEGORIES:Kino
ATTACH;FMTTYPE=image/jpeg:https://visitulstein.no/wp-content/uploads/2026/04/c26e12f20b8dd9ff7d54be43534dc113e28a26d8-4000x2250-1.jpg
END:VEVENT
BEGIN:VEVENT
DTSTART;TZID=Europe/Oslo:20260425T153000
DTEND;TZID=Europe/Oslo:20260425T163000
DTSTAMP:20260423T135138
CREATED:20260423T101319Z
LAST-MODIFIED:20260423T101319Z
UID:23591-1777131000-1777134600@visitulstein.no
SUMMARY:Krølle Bølle
DESCRIPTION:
URL:https://visitulstein.no/kalender/krolle-bolle-4/
CATEGORIES:Kino
ATTACH;FMTTYPE=image/jpeg:https://visitulstein.no/wp-content/uploads/2026/04/7412c37c609622790a77a38933dd1a53a6e27651-4000x1676-1.jpg
END:VEVENT
BEGIN:VEVENT
DTSTART;TZID=Europe/Oslo:20260425T170000
DTEND;TZID=Europe/Oslo:20260425T180000
DTSTAMP:20260423T135138
CREATED:20260327T161146Z
LAST-MODIFIED:20260327T161146Z
UID:23328-1777136400-1777140000@visitulstein.no
SUMMARY:Familiekonsert med Bjarte Leithaug
DESCRIPTION:
URL:https://visitulstein.no/kalender/familiekonsert-med-bjarte-leithaug/
CATEGORIES:Kulturprogram
ATTACH;FMTTYPE=image/png:https://visitulstein.no/wp-content/uploads/2026/03/1658c06abdefb9e3b85489d62d02eff80be20e55-8000x4188-1.png
END:VEVENT
BEGIN:VEVENT
DTSTART;TZID=Europe/Oslo:20260425T170000
DTEND;TZID=Europe/Oslo:20260425T180000
DTSTAMP:20260423T135138
CREATED:20260407T140516Z
LAST-MODIFIED:20260407T140516Z
UID:23416-1777136400-1777140000@visitulstein.no
SUMMARY:Michael
DESCRIPTION:
URL:https://visitulstein.no/kalender/michael-4/
CATEGORIES:Kino
ATTACH;FMTTYPE=image/jpeg:https://visitulstein.no/wp-content/uploads/2026/03/370c58ee486a2020286259bb4e07331df838253b-4000x2162-1.jpg
END:VEVENT
BEGIN:VEVENT
DTSTART;TZID=Europe/Oslo:20260425T173000
DTEND;TZID=Europe/Oslo:20260425T183000
DTSTAMP:20260423T135138
CREATED:20260408T080511Z
LAST-MODIFIED:20260408T080511Z
UID:23434-1777138200-1777141800@visitulstein.no
SUMMARY:Michael
DESCRIPTION:
URL:https://visitulstein.no/kalender/michael-6/
CATEGORIES:Kino
ATTACH;FMTTYPE=image/jpeg:https://visitulstein.no/wp-content/uploads/2026/03/370c58ee486a2020286259bb4e07331df838253b-4000x2162-1.jpg
END:VEVENT
BEGIN:VEVENT
DTSTART;TZID=Europe/Oslo:20260426T154500
DTEND;TZID=Europe/Oslo:20260426T164500
DTSTAMP:20260423T135138
CREATED:20260420T090507Z
LAST-MODIFIED:20260420T090507Z
UID:23550-1777218300-1777221900@visitulstein.no
SUMMARY:Super Mario Galaxy filmen
DESCRIPTION:
URL:https://visitulstein.no/kalender/super-mario-galaxy-filmen-17/
CATEGORIES:Kino
ATTACH;FMTTYPE=image/jpeg:https://visitulstein.no/wp-content/uploads/2026/03/656036a5083c7e7ef2ad11b17f3252ac0d7d005a-3596x1500-1.jpg
END:VEVENT
BEGIN:VEVENT
DTSTART;TZID=Europe/Oslo:20260426T180000
DTEND;TZID=Europe/Oslo:20260426T190000
DTSTAMP:20260423T135138
CREATED:20260407T140516Z
LAST-MODIFIED:20260407T140516Z
UID:23417-1777226400-1777230000@visitulstein.no
SUMMARY:Michael
DESCRIPTION:
URL:https://visitulstein.no/kalender/michael-5/
CATEGORIES:Kino
ATTACH;FMTTYPE=image/jpeg:https://visitulstein.no/wp-content/uploads/2026/03/370c58ee486a2020286259bb4e07331df838253b-4000x2162-1.jpg
END:VEVENT
BEGIN:VEVENT
DTSTART;TZID=Europe/Oslo:20260429T180000
DTEND;TZID=Europe/Oslo:20260429T190000
DTSTAMP:20260423T135138
CREATED:20260420T080518Z
LAST-MODIFIED:20260420T080518Z
UID:23549-1777485600-1777489200@visitulstein.no
SUMMARY:Saltstien
DESCRIPTION:
URL:https://visitulstein.no/kalender/saltstien-3/
CATEGORIES:Kino
ATTACH;FMTTYPE=image/jpeg:https://visitulstein.no/wp-content/uploads/2026/03/68a8d94128050ebb74de88b1c62ce31ee9e0a99d-4000x2667-1.jpg
END:VEVENT
BEGIN:VEVENT
DTSTART;TZID=Europe/Oslo:20260429T203000
DTEND;TZID=Europe/Oslo:20260429T213000
DTSTAMP:20260423T135138
CREATED:20260420T080518Z
LAST-MODIFIED:20260420T080518Z
UID:23548-1777494600-1777498200@visitulstein.no
SUMMARY:Michael
DESCRIPTION:
URL:https://visitulstein.no/kalender/michael-7/
CATEGORIES:Kino
ATTACH;FMTTYPE=image/jpeg:https://visitulstein.no/wp-content/uploads/2026/03/370c58ee486a2020286259bb4e07331df838253b-4000x2162-1.jpg
END:VEVENT
BEGIN:VEVENT
DTSTART;TZID=Europe/Oslo:20260430T190000
DTEND;TZID=Europe/Oslo:20260430T200000
DTSTAMP:20260423T135138
CREATED:20260409T140519Z
LAST-MODIFIED:20260409T140519Z
UID:23464-1777575600-1777579200@visitulstein.no
SUMMARY:The Devil Wears Prada 2
DESCRIPTION:
URL:https://visitulstein.no/kalender/the-devil-wears-prada-2-2/
CATEGORIES:Kino
ATTACH;FMTTYPE=image/jpeg:https://visitulstein.no/wp-content/uploads/2026/02/0122559310ad8991c5c50ea727e5386209ca38f6-4000x2667-1.jpg
END:VEVENT
END:VCALENDAR