BEGIN:VCALENDAR
VERSION:2.0
PRODID:-//Visit Ulstein - ECPv6.15.20//NONSGML v1.0//EN
CALSCALE:GREGORIAN
METHOD:PUBLISH
X-WR-CALNAME:Visit Ulstein
X-ORIGINAL-URL:https://visitulstein.no
X-WR-CALDESC:Arrangement for Visit Ulstein
REFRESH-INTERVAL;VALUE=DURATION:PT1H
X-Robots-Tag:noindex
X-PUBLISHED-TTL:PT1H
BEGIN:VTIMEZONE
TZID:Europe/Oslo
BEGIN:DAYLIGHT
TZOFFSETFROM:+0100
TZOFFSETTO:+0200
TZNAME:CEST
DTSTART:20250330T010000
END:DAYLIGHT
BEGIN:STANDARD
TZOFFSETFROM:+0200
TZOFFSETTO:+0100
TZNAME:CET
DTSTART:20251026T010000
END:STANDARD
BEGIN:DAYLIGHT
TZOFFSETFROM:+0100
TZOFFSETTO:+0200
TZNAME:CEST
DTSTART:20260329T010000
END:DAYLIGHT
BEGIN:STANDARD
TZOFFSETFROM:+0200
TZOFFSETTO:+0100
TZNAME:CET
DTSTART:20261025T010000
END:STANDARD
BEGIN:DAYLIGHT
TZOFFSETFROM:+0100
TZOFFSETTO:+0200
TZNAME:CEST
DTSTART:20270328T010000
END:DAYLIGHT
BEGIN:STANDARD
TZOFFSETFROM:+0200
TZOFFSETTO:+0100
TZNAME:CET
DTSTART:20271031T010000
END:STANDARD
END:VTIMEZONE
BEGIN:VEVENT
DTSTART;TZID=Europe/Oslo:20260501T173000
DTEND;TZID=Europe/Oslo:20260501T183000
DTSTAMP:20260423T170257
CREATED:20260414T090511Z
LAST-MODIFIED:20260414T090511Z
UID:23498-1777656600-1777660200@visitulstein.no
SUMMARY:Sauedetektivene
DESCRIPTION:
URL:https://visitulstein.no/kalender/sauedetektivene-2/
CATEGORIES:Kino
ATTACH;FMTTYPE=image/jpeg:https://visitulstein.no/wp-content/uploads/2026/04/821223c2ecc51942e0033e09046610a584233647-1920x958-1.jpg
END:VEVENT
BEGIN:VEVENT
DTSTART;TZID=Europe/Oslo:20260501T200000
DTEND;TZID=Europe/Oslo:20260501T210000
DTSTAMP:20260423T170257
CREATED:20260224T214437Z
LAST-MODIFIED:20260224T214437Z
UID:23075-1777665600-1777669200@visitulstein.no
SUMMARY:The Devil Wears Prada 2
DESCRIPTION:
URL:https://visitulstein.no/kalender/the-devil-wears-prada-2/
CATEGORIES:Kino
ATTACH;FMTTYPE=image/jpeg:https://visitulstein.no/wp-content/uploads/2026/02/0122559310ad8991c5c50ea727e5386209ca38f6-4000x2667-1.jpg
END:VEVENT
BEGIN:VEVENT
DTSTART;TZID=Europe/Oslo:20260502T150000
DTEND;TZID=Europe/Oslo:20260502T160000
DTSTAMP:20260423T170257
CREATED:20260421T090517Z
LAST-MODIFIED:20260421T090517Z
UID:23567-1777734000-1777737600@visitulstein.no
SUMMARY:Bamse og havets hemmelighet
DESCRIPTION:
URL:https://visitulstein.no/kalender/bamse-og-havets-hemmelighet-4/
CATEGORIES:Kino
ATTACH;FMTTYPE=image/jpeg:https://visitulstein.no/wp-content/uploads/2026/03/3f60ee346ee2853737e4dbaf858b1c8f7b98c6dd-3072x1286-1.jpg
END:VEVENT
BEGIN:VEVENT
DTSTART;TZID=Europe/Oslo:20260502T170000
DTEND;TZID=Europe/Oslo:20260502T180000
DTSTAMP:20260423T170257
CREATED:20260421T130510Z
LAST-MODIFIED:20260421T130510Z
UID:23571-1777741200-1777744800@visitulstein.no
SUMMARY:Michael
DESCRIPTION:
URL:https://visitulstein.no/kalender/michael-8/
CATEGORIES:Kino
ATTACH;FMTTYPE=image/jpeg:https://visitulstein.no/wp-content/uploads/2026/03/370c58ee486a2020286259bb4e07331df838253b-4000x2162-1.jpg
END:VEVENT
BEGIN:VEVENT
DTSTART;TZID=Europe/Oslo:20260503T151500
DTEND;TZID=Europe/Oslo:20260503T161500
DTSTAMP:20260423T170257
CREATED:20260421T130509Z
LAST-MODIFIED:20260421T130509Z
UID:23570-1777821300-1777824900@visitulstein.no
SUMMARY:Krølle Bølle
DESCRIPTION:
URL:https://visitulstein.no/kalender/krolle-bolle-3/
CATEGORIES:Kino
ATTACH;FMTTYPE=image/jpeg:https://visitulstein.no/wp-content/uploads/2026/04/c26e12f20b8dd9ff7d54be43534dc113e28a26d8-4000x2250-1.jpg
END:VEVENT
BEGIN:VEVENT
DTSTART;TZID=Europe/Oslo:20260503T171500
DTEND;TZID=Europe/Oslo:20260503T181500
DTSTAMP:20260423T170257
CREATED:20260421T130510Z
LAST-MODIFIED:20260421T130510Z
UID:23572-1777828500-1777832100@visitulstein.no
SUMMARY:Michael
DESCRIPTION:
URL:https://visitulstein.no/kalender/michael-9/
CATEGORIES:Kino
ATTACH;FMTTYPE=image/jpeg:https://visitulstein.no/wp-content/uploads/2026/03/370c58ee486a2020286259bb4e07331df838253b-4000x2162-1.jpg
END:VEVENT
BEGIN:VEVENT
DTSTART;TZID=Europe/Oslo:20260503T200000
DTEND;TZID=Europe/Oslo:20260503T210000
DTSTAMP:20260423T170257
CREATED:20260414T100507Z
LAST-MODIFIED:20260414T100507Z
UID:23501-1777838400-1777842000@visitulstein.no
SUMMARY:The Devil Wears Prada 2
DESCRIPTION:
URL:https://visitulstein.no/kalender/the-devil-wears-prada-2-3/
CATEGORIES:Kino
ATTACH;FMTTYPE=image/jpeg:https://visitulstein.no/wp-content/uploads/2026/02/0122559310ad8991c5c50ea727e5386209ca38f6-4000x2667-1.jpg
END:VEVENT
BEGIN:VEVENT
DTSTART;TZID=Europe/Oslo:20260506T173000
DTEND;TZID=Europe/Oslo:20260506T183000
DTSTAMP:20260423T170257
CREATED:20260421T140507Z
LAST-MODIFIED:20260421T140507Z
UID:23573-1778088600-1778092200@visitulstein.no
SUMMARY:Michael
DESCRIPTION:
URL:https://visitulstein.no/kalender/michael-10/
CATEGORIES:Kino
ATTACH;FMTTYPE=image/jpeg:https://visitulstein.no/wp-content/uploads/2026/03/370c58ee486a2020286259bb4e07331df838253b-4000x2162-1.jpg
END:VEVENT
BEGIN:VEVENT
DTSTART;TZID=Europe/Oslo:20260506T201500
DTEND;TZID=Europe/Oslo:20260506T211500
DTSTAMP:20260423T170257
CREATED:20260421T140508Z
LAST-MODIFIED:20260421T140508Z
UID:23575-1778098500-1778102100@visitulstein.no
SUMMARY:The Devil Wears Prada 2
DESCRIPTION:
URL:https://visitulstein.no/kalender/the-devil-wears-prada-2-4/
CATEGORIES:Kino
ATTACH;FMTTYPE=image/jpeg:https://visitulstein.no/wp-content/uploads/2026/02/0122559310ad8991c5c50ea727e5386209ca38f6-4000x2667-1.jpg
END:VEVENT
BEGIN:VEVENT
DTSTART;TZID=Europe/Oslo:20260507T180000
DTEND;TZID=Europe/Oslo:20260507T190000
DTSTAMP:20260423T170257
CREATED:20260421T140509Z
LAST-MODIFIED:20260421T140509Z
UID:23576-1778176800-1778180400@visitulstein.no
SUMMARY:The Devil Wears Prada 2
DESCRIPTION:
URL:https://visitulstein.no/kalender/the-devil-wears-prada-2-5/
CATEGORIES:Kino
ATTACH;FMTTYPE=image/jpeg:https://visitulstein.no/wp-content/uploads/2026/02/0122559310ad8991c5c50ea727e5386209ca38f6-4000x2667-1.jpg
END:VEVENT
BEGIN:VEVENT
DTSTART;TZID=Europe/Oslo:20260507T204500
DTEND;TZID=Europe/Oslo:20260507T214500
DTSTAMP:20260423T170257
CREATED:20260421T140508Z
LAST-MODIFIED:20260421T140508Z
UID:23574-1778186700-1778190300@visitulstein.no
SUMMARY:Michael
DESCRIPTION:
URL:https://visitulstein.no/kalender/michael-11/
CATEGORIES:Kino
ATTACH;FMTTYPE=image/jpeg:https://visitulstein.no/wp-content/uploads/2026/03/370c58ee486a2020286259bb4e07331df838253b-4000x2162-1.jpg
END:VEVENT
BEGIN:VEVENT
DTSTART;TZID=Europe/Oslo:20260508T180000
DTEND;TZID=Europe/Oslo:20260508T190000
DTSTAMP:20260423T170257
CREATED:20260326T150507Z
LAST-MODIFIED:20260326T150507Z
UID:23303-1778263200-1778266800@visitulstein.no
SUMMARY:BILLIE EILISH – HIT ME HARD AND SOFT: THE TOUR
DESCRIPTION:
URL:https://visitulstein.no/kalender/billie-eilish-hit-me-hard-and-soft-the-tour/
CATEGORIES:Kino
END:VEVENT
BEGIN:VEVENT
DTSTART;TZID=Europe/Oslo:20260508T204500
DTEND;TZID=Europe/Oslo:20260508T214500
DTSTAMP:20260423T170257
CREATED:20260326T150510Z
LAST-MODIFIED:20260326T150510Z
UID:23311-1778273100-1778276700@visitulstein.no
SUMMARY:Mortal Kombat II
DESCRIPTION:
URL:https://visitulstein.no/kalender/mortal-kombat-ii/
CATEGORIES:Kino
ATTACH;FMTTYPE=image/jpeg:https://visitulstein.no/wp-content/uploads/2026/03/fad4ab26e3fec3af07649f96ef42516599209ee2-3400x2200-1.jpg
END:VEVENT
BEGIN:VEVENT
DTSTART;TZID=Europe/Oslo:20260509T150000
DTEND;TZID=Europe/Oslo:20260509T160000
DTSTAMP:20260423T170257
CREATED:20260408T080509Z
LAST-MODIFIED:20260408T080509Z
UID:23430-1778338800-1778342400@visitulstein.no
SUMMARY:Krølle Bølle
DESCRIPTION:
URL:https://visitulstein.no/kalender/krolle-bolle-2/
CATEGORIES:Kino
ATTACH;FMTTYPE=image/jpeg:https://visitulstein.no/wp-content/uploads/2026/04/c26e12f20b8dd9ff7d54be43534dc113e28a26d8-4000x2250-1.jpg
END:VEVENT
BEGIN:VEVENT
DTSTART;TZID=Europe/Oslo:20260509T170000
DTEND;TZID=Europe/Oslo:20260509T180000
DTSTAMP:20260423T170257
CREATED:20260408T080514Z
LAST-MODIFIED:20260408T080514Z
UID:23439-1778346000-1778349600@visitulstein.no
SUMMARY:Sauedetektivene
DESCRIPTION:
URL:https://visitulstein.no/kalender/sauedetektivene/
CATEGORIES:Kino
ATTACH;FMTTYPE=image/jpeg:https://visitulstein.no/wp-content/uploads/2026/04/821223c2ecc51942e0033e09046610a584233647-1920x958-1.jpg
END:VEVENT
BEGIN:VEVENT
DTSTART;TZID=Europe/Oslo:20260515T180000
DTEND;TZID=Europe/Oslo:20260515T190000
DTSTAMP:20260423T170257
CREATED:20260326T150508Z
LAST-MODIFIED:20260326T150508Z
UID:23306-1778868000-1778871600@visitulstein.no
SUMMARY:Kenny Dalglish
DESCRIPTION:
URL:https://visitulstein.no/kalender/kenny-dalglish/
CATEGORIES:Kino
END:VEVENT
BEGIN:VEVENT
DTSTART;TZID=Europe/Oslo:20260520T180000
DTEND;TZID=Europe/Oslo:20260520T190000
DTSTAMP:20260423T170257
CREATED:20260326T150515Z
LAST-MODIFIED:20260326T150515Z
UID:23319-1779300000-1779303600@visitulstein.no
SUMMARY:The Mandalorian and Grogu
DESCRIPTION:
URL:https://visitulstein.no/kalender/the-mandalorian-and-grogu/
CATEGORIES:Kino
ATTACH;FMTTYPE=image/jpeg:https://visitulstein.no/wp-content/uploads/2026/03/39e39bdbbf233de80c361683d5c38a3f37152a4a-3840x1608-1.jpg
END:VEVENT
BEGIN:VEVENT
DTSTART;TZID=Europe/Oslo:20260522T203000
DTEND;TZID=Europe/Oslo:20260522T213000
DTSTAMP:20260423T170257
CREATED:20260408T080512Z
LAST-MODIFIED:20260408T080512Z
UID:23437-1779481800-1779485400@visitulstein.no
SUMMARY:Obsession
DESCRIPTION:
URL:https://visitulstein.no/kalender/obsession/
CATEGORIES:Kino
ATTACH;FMTTYPE=image/jpeg:https://visitulstein.no/wp-content/uploads/2026/04/c3c2c37cc3b26b4c86dfbcd0877eee98cbe97463-3183x2123-1.jpg
END:VEVENT
BEGIN:VEVENT
DTSTART;TZID=Europe/Oslo:20260530T173000
DTEND;TZID=Europe/Oslo:20260530T183000
DTSTAMP:20260423T170257
CREATED:20260408T080511Z
LAST-MODIFIED:20260408T080511Z
UID:23435-1780162200-1780165800@visitulstein.no
SUMMARY:Mira
DESCRIPTION:
URL:https://visitulstein.no/kalender/mira/
CATEGORIES:Kino
ATTACH;FMTTYPE=image/jpeg:https://visitulstein.no/wp-content/uploads/2026/04/29c32fc572b03fb76c7e3f1d7bdb58599b11e7e1-1920x1080-1.jpg
END:VEVENT
BEGIN:VEVENT
DTSTART;TZID=Europe/Oslo:20260530T173000
DTEND;TZID=Europe/Oslo:20260530T183000
DTSTAMP:20260423T170257
CREATED:20260421T090517Z
LAST-MODIFIED:20260421T090517Z
UID:23568-1780162200-1780165800@visitulstein.no
SUMMARY:Mira
DESCRIPTION:
URL:https://visitulstein.no/kalender/mira-2/
CATEGORIES:Kino
ATTACH;FMTTYPE=image/jpeg:https://visitulstein.no/wp-content/uploads/2026/04/29c32fc572b03fb76c7e3f1d7bdb58599b11e7e1-1920x1080-1.jpg
END:VEVENT
END:VCALENDAR