BEGIN:VCALENDAR
VERSION:2.0
PRODID:-//Visit Ulstein - ECPv6.15.20//NONSGML v1.0//EN
CALSCALE:GREGORIAN
METHOD:PUBLISH
X-ORIGINAL-URL:https://visitulstein.no
X-WR-CALDESC:Arrangement for Visit Ulstein
REFRESH-INTERVAL;VALUE=DURATION:PT1H
X-Robots-Tag:noindex
X-PUBLISHED-TTL:PT1H
BEGIN:VTIMEZONE
TZID:Europe/Oslo
BEGIN:DAYLIGHT
TZOFFSETFROM:+0100
TZOFFSETTO:+0200
TZNAME:CEST
DTSTART:20250330T010000
END:DAYLIGHT
BEGIN:STANDARD
TZOFFSETFROM:+0200
TZOFFSETTO:+0100
TZNAME:CET
DTSTART:20251026T010000
END:STANDARD
BEGIN:DAYLIGHT
TZOFFSETFROM:+0100
TZOFFSETTO:+0200
TZNAME:CEST
DTSTART:20260329T010000
END:DAYLIGHT
BEGIN:STANDARD
TZOFFSETFROM:+0200
TZOFFSETTO:+0100
TZNAME:CET
DTSTART:20261025T010000
END:STANDARD
BEGIN:DAYLIGHT
TZOFFSETFROM:+0100
TZOFFSETTO:+0200
TZNAME:CEST
DTSTART:20270328T010000
END:DAYLIGHT
BEGIN:STANDARD
TZOFFSETFROM:+0200
TZOFFSETTO:+0100
TZNAME:CET
DTSTART:20271031T010000
END:STANDARD
END:VTIMEZONE
BEGIN:VEVENT
DTSTART;TZID=Europe/Oslo:20260325T173000
DTEND;TZID=Europe/Oslo:20260325T183000
DTSTAMP:20260423T153926
CREATED:20260316T150509Z
LAST-MODIFIED:20260316T150509Z
UID:23236-1774459800-1774463400@visitulstein.no
SUMMARY:I Swear
DESCRIPTION:
URL:https://visitulstein.no/kalender/i-swear-7/
CATEGORIES:Kino
ATTACH;FMTTYPE=image/jpeg:https://visitulstein.no/wp-content/uploads/2026/02/3e6d39c53916378e98bd3f754dd115b00afec745-3500x2333-1.jpg
END:VEVENT
BEGIN:VEVENT
DTSTART;TZID=Europe/Oslo:20260325T180000
DTEND;TZID=Europe/Oslo:20260325T190000
DTSTAMP:20260423T153926
CREATED:20260313T100520Z
LAST-MODIFIED:20260313T100520Z
UID:23220-1774461600-1774465200@visitulstein.no
SUMMARY:I Swear
DESCRIPTION:
URL:https://visitulstein.no/kalender/i-swear-6/
CATEGORIES:Kino
ATTACH;FMTTYPE=image/jpeg:https://visitulstein.no/wp-content/uploads/2026/02/3e6d39c53916378e98bd3f754dd115b00afec745-3500x2333-1.jpg
END:VEVENT
BEGIN:VEVENT
DTSTART;TZID=Europe/Oslo:20260325T200000
DTEND;TZID=Europe/Oslo:20260325T210000
DTSTAMP:20260423T153926
CREATED:20260316T150509Z
LAST-MODIFIED:20260316T150509Z
UID:23237-1774468800-1774472400@visitulstein.no
SUMMARY:Project Hail Mary
DESCRIPTION:
URL:https://visitulstein.no/kalender/project-hail-mary-4/
CATEGORIES:Kino
ATTACH;FMTTYPE=image/jpeg:https://visitulstein.no/wp-content/uploads/2026/02/afb872ba6b7e2ec5458ec55416e36d21c4ea1ab6-4000x2667-1.jpg
END:VEVENT
BEGIN:VEVENT
DTSTART;TZID=Europe/Oslo:20260326T183000
DTEND;TZID=Europe/Oslo:20260326T193000
DTSTAMP:20260423T153926
CREATED:20260313T120549Z
LAST-MODIFIED:20260313T120549Z
UID:23221-1774549800-1774553400@visitulstein.no
SUMMARY:Portrett av en forvirret far
DESCRIPTION:
URL:https://visitulstein.no/kalender/portrett-av-en-forvirret-far/
CATEGORIES:Kino
END:VEVENT
BEGIN:VEVENT
DTSTART;TZID=Europe/Oslo:20260327T183000
DTEND;TZID=Europe/Oslo:20260327T193000
DTSTAMP:20260423T153926
CREATED:20260227T140506Z
LAST-MODIFIED:20260227T140506Z
UID:23124-1774636200-1774639800@visitulstein.no
SUMMARY:How to Make a Killing
DESCRIPTION:
URL:https://visitulstein.no/kalender/how-to-make-a-killing/
CATEGORIES:Kino
ATTACH;FMTTYPE=image/jpeg:https://visitulstein.no/wp-content/uploads/2026/02/09a8f71b9c1eeed4dab572ef8dcf951738a854be-4000x2666-1.jpg
END:VEVENT
BEGIN:VEVENT
DTSTART;TZID=Europe/Oslo:20260327T210000
DTEND;TZID=Europe/Oslo:20260327T220000
DTSTAMP:20260423T153926
CREATED:20260227T140516Z
LAST-MODIFIED:20260227T140516Z
UID:23130-1774645200-1774648800@visitulstein.no
SUMMARY:They Will Kill You
DESCRIPTION:
URL:https://visitulstein.no/kalender/they-will-kill-you/
CATEGORIES:Kino
END:VEVENT
BEGIN:VEVENT
DTSTART;TZID=Europe/Oslo:20260328T150000
DTEND;TZID=Europe/Oslo:20260328T160000
DTSTAMP:20260423T153926
CREATED:20260316T220626Z
LAST-MODIFIED:20260316T220626Z
UID:23239-1774710000-1774713600@visitulstein.no
SUMMARY:Operasjon Bever
DESCRIPTION:
URL:https://visitulstein.no/kalender/operasjon-bever-7/
CATEGORIES:Kino
ATTACH;FMTTYPE=image/jpeg:https://visitulstein.no/wp-content/uploads/2026/02/c6e001cbfe43d45803d7df57c3d4928e73a50789-3996x2152-1.jpg
END:VEVENT
BEGIN:VEVENT
DTSTART;TZID=Europe/Oslo:20260328T160000
DTEND;TZID=Europe/Oslo:20260328T170000
DTSTAMP:20260423T153926
CREATED:20260306T140531Z
LAST-MODIFIED:20260306T140531Z
UID:23191-1774713600-1774717200@visitulstein.no
SUMMARY:GOAT – Drøm stort
DESCRIPTION:
URL:https://visitulstein.no/kalender/goat-drom-stort-5/
CATEGORIES:Kino
ATTACH;FMTTYPE=image/jpeg:https://visitulstein.no/wp-content/uploads/2026/02/7af13f3e32268406f4ccd82f16a789d6ed350683-2000x838-1.jpg
END:VEVENT
BEGIN:VEVENT
DTSTART;TZID=Europe/Oslo:20260328T173000
DTEND;TZID=Europe/Oslo:20260328T183000
DTSTAMP:20260423T153926
CREATED:20260316T220626Z
LAST-MODIFIED:20260316T220626Z
UID:23238-1774719000-1774722600@visitulstein.no
SUMMARY:GOAT – Drøm stort
DESCRIPTION:
URL:https://visitulstein.no/kalender/goat-drom-stort-7/
CATEGORIES:Kino
ATTACH;FMTTYPE=image/jpeg:https://visitulstein.no/wp-content/uploads/2026/02/7af13f3e32268406f4ccd82f16a789d6ed350683-2000x838-1.jpg
END:VEVENT
BEGIN:VEVENT
DTSTART;TZID=Europe/Oslo:20260328T190000
DTEND;TZID=Europe/Oslo:20260328T200000
DTSTAMP:20260423T153926
CREATED:20260224T214358Z
LAST-MODIFIED:20260224T214358Z
UID:23019-1774724400-1774728000@visitulstein.no
SUMMARY:Humorgalla m/ Henrik Fladseth\, Ole Soo og Henrik Bjørnson
DESCRIPTION:
URL:https://visitulstein.no/kalender/humorgalla-m-henrik-fladseth-ole-soo-og-henrik-bjornson/
CATEGORIES:Kulturprogram
ATTACH;FMTTYPE=image/jpeg:https://visitulstein.no/wp-content/uploads/2026/02/b2d6f8a16bf206f3ed937c5027d5b1a2261ade58-3840x2160-1.jpg
END:VEVENT
BEGIN:VEVENT
DTSTART;TZID=Europe/Oslo:20260329T153000
DTEND;TZID=Europe/Oslo:20260329T163000
DTSTAMP:20260423T153926
CREATED:20260325T150737Z
LAST-MODIFIED:20260325T150737Z
UID:23273-1774798200-1774801800@visitulstein.no
SUMMARY:GOAT – Drøm stort
DESCRIPTION:
URL:https://visitulstein.no/kalender/goat-drom-stort-8/
CATEGORIES:Kino
ATTACH;FMTTYPE=image/jpeg:https://visitulstein.no/wp-content/uploads/2026/02/7af13f3e32268406f4ccd82f16a789d6ed350683-2000x838-1.jpg
END:VEVENT
BEGIN:VEVENT
DTSTART;TZID=Europe/Oslo:20260329T154500
DTEND;TZID=Europe/Oslo:20260329T164500
DTSTAMP:20260423T153926
CREATED:20260303T130733Z
LAST-MODIFIED:20260303T130733Z
UID:23152-1774799100-1774802700@visitulstein.no
SUMMARY:GOAT – Drøm stort
DESCRIPTION:
URL:https://visitulstein.no/kalender/goat-drom-stort-4/
CATEGORIES:Kino
ATTACH;FMTTYPE=image/jpeg:https://visitulstein.no/wp-content/uploads/2026/02/7af13f3e32268406f4ccd82f16a789d6ed350683-2000x838-1.jpg
END:VEVENT
BEGIN:VEVENT
DTSTART;TZID=Europe/Oslo:20260329T174500
DTEND;TZID=Europe/Oslo:20260329T184500
DTSTAMP:20260423T153926
CREATED:20260325T150737Z
LAST-MODIFIED:20260325T150737Z
UID:23275-1774806300-1774809900@visitulstein.no
SUMMARY:Project Hail Mary
DESCRIPTION:
URL:https://visitulstein.no/kalender/project-hail-mary-6/
CATEGORIES:Kino
ATTACH;FMTTYPE=image/jpeg:https://visitulstein.no/wp-content/uploads/2026/02/afb872ba6b7e2ec5458ec55416e36d21c4ea1ab6-4000x2667-1.jpg
END:VEVENT
BEGIN:VEVENT
DTSTART;TZID=Europe/Oslo:20260329T180000
DTEND;TZID=Europe/Oslo:20260329T190000
DTSTAMP:20260423T153926
CREATED:20260227T140509Z
LAST-MODIFIED:20260227T140509Z
UID:23126-1774807200-1774810800@visitulstein.no
SUMMARY:Paradis
DESCRIPTION:
URL:https://visitulstein.no/kalender/paradis/
CATEGORIES:Kino
ATTACH;FMTTYPE=image/jpeg:https://visitulstein.no/wp-content/uploads/2026/02/53ac1c48390802d468321e779808d1a54cfb5953-4000x1676-1.jpg
END:VEVENT
BEGIN:VEVENT
DTSTART;TZID=Europe/Oslo:20260329T201500
DTEND;TZID=Europe/Oslo:20260329T211500
DTSTAMP:20260423T153926
CREATED:20260303T130733Z
LAST-MODIFIED:20260303T130733Z
UID:23154-1774815300-1774818900@visitulstein.no
SUMMARY:How to Make a Killing
DESCRIPTION:
URL:https://visitulstein.no/kalender/how-to-make-a-killing-2/
CATEGORIES:Kino
ATTACH;FMTTYPE=image/jpeg:https://visitulstein.no/wp-content/uploads/2026/02/09a8f71b9c1eeed4dab572ef8dcf951738a854be-4000x2666-1.jpg
END:VEVENT
BEGIN:VEVENT
DTSTART;TZID=Europe/Oslo:20260329T210000
DTEND;TZID=Europe/Oslo:20260329T220000
DTSTAMP:20260423T153926
CREATED:20260325T150737Z
LAST-MODIFIED:20260325T150737Z
UID:23274-1774818000-1774821600@visitulstein.no
SUMMARY:How to Make a Killing
DESCRIPTION:
URL:https://visitulstein.no/kalender/how-to-make-a-killing-3/
CATEGORIES:Kino
ATTACH;FMTTYPE=image/jpeg:https://visitulstein.no/wp-content/uploads/2026/02/09a8f71b9c1eeed4dab572ef8dcf951738a854be-4000x2666-1.jpg
END:VEVENT
BEGIN:VEVENT
DTSTART;TZID=Europe/Oslo:20260331T180000
DTEND;TZID=Europe/Oslo:20260331T190000
DTSTAMP:20260423T153926
CREATED:20260326T140506Z
LAST-MODIFIED:20260326T140506Z
UID:23298-1774980000-1774983600@visitulstein.no
SUMMARY:Begynnelser
DESCRIPTION:
URL:https://visitulstein.no/kalender/begynnelser-2/
CATEGORIES:Kino
ATTACH;FMTTYPE=image/jpeg:https://visitulstein.no/wp-content/uploads/2026/03/cb9f083e0b0583fe47d9dab618082a4cdf544e7c-4000x2249-1.jpg
END:VEVENT
BEGIN:VEVENT
DTSTART;TZID=Europe/Oslo:20260331T183000
DTEND;TZID=Europe/Oslo:20260331T193000
DTSTAMP:20260423T153926
CREATED:20260303T130731Z
LAST-MODIFIED:20260303T130731Z
UID:23149-1774981800-1774985400@visitulstein.no
SUMMARY:Begynnelser
DESCRIPTION:
URL:https://visitulstein.no/kalender/begynnelser/
CATEGORIES:Kino
ATTACH;FMTTYPE=image/jpeg:https://visitulstein.no/wp-content/uploads/2026/03/cb9f083e0b0583fe47d9dab618082a4cdf544e7c-4000x2249-1.jpg
END:VEVENT
BEGIN:VEVENT
DTSTART;TZID=Europe/Oslo:20260331T201500
DTEND;TZID=Europe/Oslo:20260331T211500
DTSTAMP:20260423T153926
CREATED:20260326T140506Z
LAST-MODIFIED:20260326T140506Z
UID:23299-1774988100-1774991700@visitulstein.no
SUMMARY:Project Hail Mary
DESCRIPTION:
URL:https://visitulstein.no/kalender/project-hail-mary-7/
CATEGORIES:Kino
ATTACH;FMTTYPE=image/jpeg:https://visitulstein.no/wp-content/uploads/2026/02/afb872ba6b7e2ec5458ec55416e36d21c4ea1ab6-4000x2667-1.jpg
END:VEVENT
END:VCALENDAR