BEGIN:VCALENDAR
VERSION:2.0
PRODID:-//Visit Ulstein - ECPv6.15.20//NONSGML v1.0//EN
CALSCALE:GREGORIAN
METHOD:PUBLISH
X-WR-CALNAME:Visit Ulstein
X-ORIGINAL-URL:https://visitulstein.no
X-WR-CALDESC:Arrangement for Visit Ulstein
REFRESH-INTERVAL;VALUE=DURATION:PT1H
X-Robots-Tag:noindex
X-PUBLISHED-TTL:PT1H
BEGIN:VTIMEZONE
TZID:Europe/Oslo
BEGIN:DAYLIGHT
TZOFFSETFROM:+0100
TZOFFSETTO:+0200
TZNAME:CEST
DTSTART:20250330T010000
END:DAYLIGHT
BEGIN:STANDARD
TZOFFSETFROM:+0200
TZOFFSETTO:+0100
TZNAME:CET
DTSTART:20251026T010000
END:STANDARD
BEGIN:DAYLIGHT
TZOFFSETFROM:+0100
TZOFFSETTO:+0200
TZNAME:CEST
DTSTART:20260329T010000
END:DAYLIGHT
BEGIN:STANDARD
TZOFFSETFROM:+0200
TZOFFSETTO:+0100
TZNAME:CET
DTSTART:20261025T010000
END:STANDARD
BEGIN:DAYLIGHT
TZOFFSETFROM:+0100
TZOFFSETTO:+0200
TZNAME:CEST
DTSTART:20270328T010000
END:DAYLIGHT
BEGIN:STANDARD
TZOFFSETFROM:+0200
TZOFFSETTO:+0100
TZNAME:CET
DTSTART:20271031T010000
END:STANDARD
BEGIN:DAYLIGHT
TZOFFSETFROM:+0100
TZOFFSETTO:+0200
TZNAME:CEST
DTSTART:20280326T010000
END:DAYLIGHT
BEGIN:STANDARD
TZOFFSETFROM:+0200
TZOFFSETTO:+0100
TZNAME:CET
DTSTART:20281029T010000
END:STANDARD
END:VTIMEZONE
BEGIN:VEVENT
DTSTART;TZID=Europe/Oslo:20261023T190000
DTEND;TZID=Europe/Oslo:20261023T200000
DTSTAMP:20260423T181533
CREATED:20260408T110509Z
LAST-MODIFIED:20260408T110509Z
UID:23446-1792782000-1792785600@visitulstein.no
SUMMARY:Fanny og Aleksander
DESCRIPTION:
URL:https://visitulstein.no/kalender/fanny-og-aleksander/
CATEGORIES:Kulturprogram
ATTACH;FMTTYPE=image/jpeg:https://visitulstein.no/wp-content/uploads/2026/04/5f5c56543f1966ba3b64b89fdea7d64224b53396-4000x1875-1.jpg
END:VEVENT
BEGIN:VEVENT
DTSTART;TZID=Europe/Oslo:20261024T190000
DTEND;TZID=Europe/Oslo:20261024T200000
DTSTAMP:20260423T181533
CREATED:20260224T214406Z
LAST-MODIFIED:20260224T214406Z
UID:23031-1792868400-1792872000@visitulstein.no
SUMMARY:Terje Sporsem og John Brungot - Høy og Mørk
DESCRIPTION:
URL:https://visitulstein.no/kalender/terje-sporsem-og-john-brungot-hoy-og-mork/
CATEGORIES:Kulturprogram
ATTACH;FMTTYPE=image/jpeg:https://visitulstein.no/wp-content/uploads/2026/02/64e6de4660f0c706b247cee4679c257658b01045-5000x3750-1.jpg
END:VEVENT
BEGIN:VEVENT
DTSTART;TZID=Europe/Oslo:20261028T200000
DTEND;TZID=Europe/Oslo:20261028T210000
DTSTAMP:20260423T181533
CREATED:20260224T214407Z
LAST-MODIFIED:20260224T214407Z
UID:23033-1793217600-1793221200@visitulstein.no
SUMMARY:Hanne Boel
DESCRIPTION:
URL:https://visitulstein.no/kalender/hanne-boel/
CATEGORIES:Kulturprogram
ATTACH;FMTTYPE=image/jpeg:https://visitulstein.no/wp-content/uploads/2026/02/34ac416ce2a96d8fd2a2ab800849c4f6b7b491ec-2919x1643-1.jpg
END:VEVENT
BEGIN:VEVENT
DTSTART;TZID=Europe/Oslo:20261030T190000
DTEND;TZID=Europe/Oslo:20261030T200000
DTSTAMP:20260423T181533
CREATED:20260224T214408Z
LAST-MODIFIED:20260224T214408Z
UID:23035-1793386800-1793390400@visitulstein.no
SUMMARY:Viggo Venneløs
DESCRIPTION:
URL:https://visitulstein.no/kalender/viggo-vennelos/
CATEGORIES:Kulturprogram
ATTACH;FMTTYPE=image/jpeg:https://visitulstein.no/wp-content/uploads/2026/02/33224274101c8476a1bd611583022dbc87483783-1280x720-1.jpg
END:VEVENT
BEGIN:VEVENT
DTSTART;TZID=Europe/Oslo:20261125T190000
DTEND;TZID=Europe/Oslo:20261125T200000
DTSTAMP:20260423T181533
CREATED:20260305T121224Z
LAST-MODIFIED:20260305T121224Z
UID:23185-1795633200-1795636800@visitulstein.no
SUMMARY:Bjørn & Bjarte
DESCRIPTION:
URL:https://visitulstein.no/kalender/bjorn-bjarte/
CATEGORIES:Kulturprogram
END:VEVENT
BEGIN:VEVENT
DTSTART;TZID=Europe/Oslo:20261128T190000
DTEND;TZID=Europe/Oslo:20261128T200000
DTSTAMP:20260423T181533
CREATED:20260224T214408Z
LAST-MODIFIED:20260224T214408Z
UID:23037-1795892400-1795896000@visitulstein.no
SUMMARY:Team Bachstad på turné
DESCRIPTION:
URL:https://visitulstein.no/kalender/team-bachstad-pa-turne/
CATEGORIES:Kulturprogram
ATTACH;FMTTYPE=image/png:https://visitulstein.no/wp-content/uploads/2026/02/61a5452b15332b05308c7a5cca6a5e5fed20ae04-1990x1038-1.png
END:VEVENT
BEGIN:VEVENT
DTSTART;TZID=Europe/Oslo:20261202T190000
DTEND;TZID=Europe/Oslo:20261202T200000
DTSTAMP:20260423T181533
CREATED:20260409T140517Z
LAST-MODIFIED:20260409T140517Z
UID:23463-1796238000-1796241600@visitulstein.no
SUMMARY:Deilig er jorden
DESCRIPTION:
URL:https://visitulstein.no/kalender/deilig-er-jorden/
CATEGORIES:Kulturprogram
END:VEVENT
BEGIN:VEVENT
DTSTART;TZID=Europe/Oslo:20270423T190000
DTEND;TZID=Europe/Oslo:20270423T200000
DTSTAMP:20260423T181533
CREATED:20260224T214412Z
LAST-MODIFIED:20260224T214412Z
UID:23039-1808506800-1808510400@visitulstein.no
SUMMARY:Kristian Valen - Bare Visvas
DESCRIPTION:
URL:https://visitulstein.no/kalender/kristian-valen-bare-visvas/
CATEGORIES:Kulturprogram
ATTACH;FMTTYPE=image/jpeg:https://visitulstein.no/wp-content/uploads/2026/02/4327d7dadf46498b33f0437611f9831c6a539b47-305x225-1.jpg
END:VEVENT
END:VCALENDAR