BEGIN:VCALENDAR
VERSION:2.0
PRODID:-//Visit Ulstein - ECPv6.15.20//NONSGML v1.0//EN
CALSCALE:GREGORIAN
METHOD:PUBLISH
X-WR-CALNAME:Visit Ulstein
X-ORIGINAL-URL:https://visitulstein.no
X-WR-CALDESC:Arrangement for Visit Ulstein
REFRESH-INTERVAL;VALUE=DURATION:PT1H
X-Robots-Tag:noindex
X-PUBLISHED-TTL:PT1H
BEGIN:VTIMEZONE
TZID:Europe/Oslo
BEGIN:DAYLIGHT
TZOFFSETFROM:+0100
TZOFFSETTO:+0200
TZNAME:CEST
DTSTART:20250330T010000
END:DAYLIGHT
BEGIN:STANDARD
TZOFFSETFROM:+0200
TZOFFSETTO:+0100
TZNAME:CET
DTSTART:20251026T010000
END:STANDARD
BEGIN:DAYLIGHT
TZOFFSETFROM:+0100
TZOFFSETTO:+0200
TZNAME:CEST
DTSTART:20260329T010000
END:DAYLIGHT
BEGIN:STANDARD
TZOFFSETFROM:+0200
TZOFFSETTO:+0100
TZNAME:CET
DTSTART:20261025T010000
END:STANDARD
BEGIN:DAYLIGHT
TZOFFSETFROM:+0100
TZOFFSETTO:+0200
TZNAME:CEST
DTSTART:20270328T010000
END:DAYLIGHT
BEGIN:STANDARD
TZOFFSETFROM:+0200
TZOFFSETTO:+0100
TZNAME:CET
DTSTART:20271031T010000
END:STANDARD
END:VTIMEZONE
BEGIN:VEVENT
DTSTART;TZID=Europe/Oslo:20260422T204500
DTEND;TZID=Europe/Oslo:20260422T214500
DTSTAMP:20260423T134844
CREATED:20260407T140516Z
LAST-MODIFIED:20260407T140516Z
UID:23414-1776890700-1776894300@visitulstein.no
SUMMARY:Lee Cronin's The Mummy
DESCRIPTION:
URL:https://visitulstein.no/kalender/lee-cronins-the-mummy-4/
CATEGORIES:Kino
ATTACH;FMTTYPE=image/jpeg:https://visitulstein.no/wp-content/uploads/2026/03/b19fa6372e05682932073b945a2210e134d2a2c6-4000x1676-1.jpg
END:VEVENT
BEGIN:VEVENT
DTSTART;TZID=Europe/Oslo:20260422T180000
DTEND;TZID=Europe/Oslo:20260422T190000
DTSTAMP:20260423T134844
CREATED:20260325T120819Z
LAST-MODIFIED:20260325T120819Z
UID:23271-1776880800-1776884400@visitulstein.no
SUMMARY:Michael
DESCRIPTION:
URL:https://visitulstein.no/kalender/michael/
CATEGORIES:Kino
ATTACH;FMTTYPE=image/jpeg:https://visitulstein.no/wp-content/uploads/2026/03/66024dc2b1746f2f07519ed8afd2d15361708ed8-2400x3600-1.jpg
END:VEVENT
BEGIN:VEVENT
DTSTART;TZID=Europe/Oslo:20260421T190000
DTEND;TZID=Europe/Oslo:20260421T200000
DTSTAMP:20260423T134844
CREATED:20260420T150513Z
LAST-MODIFIED:20260420T150513Z
UID:23553-1776798000-1776801600@visitulstein.no
SUMMARY:Temakveld om kvinnehelse
DESCRIPTION:
URL:https://visitulstein.no/kalender/temakveld-om-kvinnehelse/
CATEGORIES:Kulturprogram
ATTACH;FMTTYPE=image/jpeg:https://visitulstein.no/wp-content/uploads/2026/04/57b81addd322f8514bc57f898f717995ffb7757b-640x479-1.jpg
END:VEVENT
BEGIN:VEVENT
DTSTART;TZID=Europe/Oslo:20260421T090000
DTEND;TZID=Europe/Oslo:20260421T150000
DTSTAMP:20260423T134844
CREATED:20260225T141243Z
LAST-MODIFIED:20260410T081652Z
UID:23090-1776762000-1776783600@visitulstein.no
SUMMARY:Workshop om Vibe Coding
DESCRIPTION:Workshop om Vibe Coding\nArrangør: Norsk Katapult Digital (ÅKP AS) – Michael Carroza og Pål Haugen \nVil du lære korleis du kan bruke kunstig intelligens til å lage enkle\, nyttige verktøy for eigen arbeidskvardag – utan å kunne programmering? \nPå denne workshopen får du ein heil dag der vi testar AI i praksis. Målet er enkelt: Du skal gå heim med noko du faktisk kan bruke. \nDette jobbar vi med: \n✨ Å finne arbeidsoppgåver som eignar seg for AI \n✨ Å bygge enkle verktøy som faktisk blir teke i bruk \n✨ Å dele løysingane internt – på ein intuitiv måte \n✨ Å vurdere kva som gir verdi\, og kva de bør jobbe vidare med \nKurset er praktisk retta og utan unødvendige faguttrykk. Her handlar det om å prøve\, teste og lære gjennom å gjere. \nDet er også utvikla ein enkel nettmodul som støttar læringa undervegs i kurset. \nPraktisk informasjon\n• Maks 10 deltakarar\n• Vi serverer lunsj og snacks \nPRIS:\nHeildags workshop\, inkludert enkel lunsj og snacks: kr 2 000 ekskl. mva.\nMELD DEG PÅ HER \nDette er ein fin moglegheit for deg som vil utforske AI på ein konkret og forståeleg måte – og sjå korleis det kan skape verdi i di verksemd.
URL:https://visitulstein.no/kalender/workshop-om-vibe-coding/
LOCATION:Skaparhuset\, Sjøgata 30\, ULSTEINVIK\, 6065\, Norway
CATEGORIES:Kurs,Næringsliv,Utdanning og kompetanse
ATTACH;FMTTYPE=image/png:https://visitulstein.no/wp-content/uploads/2026/02/image700.png
END:VEVENT
BEGIN:VEVENT
DTSTART;TZID=Europe/Oslo:20260419T203000
DTEND;TZID=Europe/Oslo:20260419T213000
DTSTAMP:20260423T134844
CREATED:20260326T150508Z
LAST-MODIFIED:20260326T150508Z
UID:23307-1776630600-1776634200@visitulstein.no
SUMMARY:Lee Cronin's The Mummy
DESCRIPTION:
URL:https://visitulstein.no/kalender/lee-cronins-the-mummy-2/
CATEGORIES:Kino
ATTACH;FMTTYPE=image/jpeg:https://visitulstein.no/wp-content/uploads/2026/03/b19fa6372e05682932073b945a2210e134d2a2c6-4000x1676-1.jpg
END:VEVENT
BEGIN:VEVENT
DTSTART;TZID=Europe/Oslo:20260419T180000
DTEND;TZID=Europe/Oslo:20260419T190000
DTSTAMP:20260423T134844
CREATED:20260326T150513Z
LAST-MODIFIED:20260326T150513Z
UID:23314-1776621600-1776625200@visitulstein.no
SUMMARY:Saltstien
DESCRIPTION:
URL:https://visitulstein.no/kalender/saltstien/
CATEGORIES:Kino
ATTACH;FMTTYPE=image/jpeg:https://visitulstein.no/wp-content/uploads/2026/03/68a8d94128050ebb74de88b1c62ce31ee9e0a99d-4000x2667-1.jpg
END:VEVENT
BEGIN:VEVENT
DTSTART;TZID=Europe/Oslo:20260419T161500
DTEND;TZID=Europe/Oslo:20260419T171500
DTSTAMP:20260423T134844
CREATED:20260407T140516Z
LAST-MODIFIED:20260407T140516Z
UID:23412-1776615300-1776618900@visitulstein.no
SUMMARY:Bamse og havets hemmelighet
DESCRIPTION:
URL:https://visitulstein.no/kalender/bamse-og-havets-hemmelighet-2/
CATEGORIES:Kino
ATTACH;FMTTYPE=image/jpeg:https://visitulstein.no/wp-content/uploads/2026/03/3f60ee346ee2853737e4dbaf858b1c8f7b98c6dd-3072x1286-1.jpg
END:VEVENT
BEGIN:VEVENT
DTSTART;TZID=Europe/Oslo:20260418T180000
DTEND;TZID=Europe/Oslo:20260418T190000
DTSTAMP:20260423T134844
CREATED:20260409T161539Z
LAST-MODIFIED:20260409T161539Z
UID:23468-1776535200-1776538800@visitulstein.no
SUMMARY:UKM Ulstein og Herøy 2026
DESCRIPTION:
URL:https://visitulstein.no/kalender/ukm-ulstein-og-heroy-2026/
CATEGORIES:Kulturprogram
ATTACH;FMTTYPE=image/jpeg:https://visitulstein.no/wp-content/uploads/2026/04/d79322934748cb4384939681ade23b8e907960a9-4031x2872-1.jpg
END:VEVENT
BEGIN:VEVENT
DTSTART;TZID=Europe/Oslo:20260418T180000
DTEND;TZID=Europe/Oslo:20260418T190000
DTSTAMP:20260423T134844
CREATED:20260327T150640Z
LAST-MODIFIED:20260327T150640Z
UID:23326-1776535200-1776538800@visitulstein.no
SUMMARY:Jazz & Koral
DESCRIPTION:
URL:https://visitulstein.no/kalender/jazz-koral/
CATEGORIES:Kulturprogram
ATTACH;FMTTYPE=image/png:https://visitulstein.no/wp-content/uploads/2026/03/3ae4248c79a68a08bd4a5f7bc85ca24b2ce2a04d-1920x1005-1.png
END:VEVENT
BEGIN:VEVENT
DTSTART;TZID=Europe/Oslo:20260418T164500
DTEND;TZID=Europe/Oslo:20260418T174500
DTSTAMP:20260423T134844
CREATED:20260413T140509Z
LAST-MODIFIED:20260413T140509Z
UID:23492-1776530700-1776534300@visitulstein.no
SUMMARY:Super Mario Galaxy filmen
DESCRIPTION:
URL:https://visitulstein.no/kalender/super-mario-galaxy-filmen-16/
CATEGORIES:Kino
ATTACH;FMTTYPE=image/jpeg:https://visitulstein.no/wp-content/uploads/2026/03/656036a5083c7e7ef2ad11b17f3252ac0d7d005a-3596x1500-1.jpg
END:VEVENT
BEGIN:VEVENT
DTSTART;TZID=Europe/Oslo:20260418T164500
DTEND;TZID=Europe/Oslo:20260418T174500
DTSTAMP:20260423T134844
CREATED:20260407T140517Z
LAST-MODIFIED:20260407T140517Z
UID:23418-1776530700-1776534300@visitulstein.no
SUMMARY:Operasjon Bever
DESCRIPTION:
URL:https://visitulstein.no/kalender/operasjon-bever-8/
CATEGORIES:Kino
ATTACH;FMTTYPE=image/jpeg:https://visitulstein.no/wp-content/uploads/2026/02/c6e001cbfe43d45803d7df57c3d4928e73a50789-3996x2152-1.jpg
END:VEVENT
BEGIN:VEVENT
DTSTART;TZID=Europe/Oslo:20260418T150000
DTEND;TZID=Europe/Oslo:20260418T160000
DTSTAMP:20260423T134844
CREATED:20260326T100552Z
LAST-MODIFIED:20260326T100552Z
UID:23280-1776524400-1776528000@visitulstein.no
SUMMARY:Bamse og havets hemmelighet
DESCRIPTION:
URL:https://visitulstein.no/kalender/bamse-og-havets-hemmelighet/
CATEGORIES:Kino
ATTACH;FMTTYPE=image/jpeg:https://visitulstein.no/wp-content/uploads/2026/03/3f60ee346ee2853737e4dbaf858b1c8f7b98c6dd-3072x1286-1.jpg
END:VEVENT
BEGIN:VEVENT
DTSTART;TZID=Europe/Oslo:20260417T210000
DTEND;TZID=Europe/Oslo:20260417T220000
DTSTAMP:20260423T134844
CREATED:20260326T100554Z
LAST-MODIFIED:20260326T100554Z
UID:23284-1776459600-1776463200@visitulstein.no
SUMMARY:Lee Cronin's The Mummy
DESCRIPTION:
URL:https://visitulstein.no/kalender/lee-cronins-the-mummy/
CATEGORIES:Kino
ATTACH;FMTTYPE=image/jpeg:https://visitulstein.no/wp-content/uploads/2026/03/b19fa6372e05682932073b945a2210e134d2a2c6-4000x1676-1.jpg
END:VEVENT
BEGIN:VEVENT
DTSTART;TZID=Europe/Oslo:20260417T183000
DTEND;TZID=Europe/Oslo:20260417T193000
DTSTAMP:20260423T134844
CREATED:20260407T080516Z
LAST-MODIFIED:20260407T080516Z
UID:23404-1776450600-1776454200@visitulstein.no
SUMMARY:The Drama
DESCRIPTION:
URL:https://visitulstein.no/kalender/the-drama-4/
CATEGORIES:Kino
ATTACH;FMTTYPE=image/jpeg:https://visitulstein.no/wp-content/uploads/2026/03/56b3dcd429cb515de55feaecdff855a5cf8f3c51-3996x2160-1.jpg
END:VEVENT
BEGIN:VEVENT
DTSTART;TZID=Europe/Oslo:20260417T174500
DTEND;TZID=Europe/Oslo:20260417T184500
DTSTAMP:20260423T134844
CREATED:20260407T140517Z
LAST-MODIFIED:20260407T140517Z
UID:23419-1776447900-1776451500@visitulstein.no
SUMMARY:Project Hail Mary
DESCRIPTION:
URL:https://visitulstein.no/kalender/project-hail-mary-9/
CATEGORIES:Kino
ATTACH;FMTTYPE=image/jpeg:https://visitulstein.no/wp-content/uploads/2026/02/afb872ba6b7e2ec5458ec55416e36d21c4ea1ab6-4000x2667-1.jpg
END:VEVENT
BEGIN:VEVENT
DTSTART;TZID=Europe/Oslo:20260416T193000
DTEND;TZID=Europe/Oslo:20260416T203000
DTSTAMP:20260423T134844
CREATED:20260408T080508Z
LAST-MODIFIED:20260408T080508Z
UID:23427-1776367800-1776371400@visitulstein.no
SUMMARY:I Swear
DESCRIPTION:
URL:https://visitulstein.no/kalender/i-swear-10/
CATEGORIES:Kino
ATTACH;FMTTYPE=image/jpeg:https://visitulstein.no/wp-content/uploads/2026/02/3e6d39c53916378e98bd3f754dd115b00afec745-3500x2333-1.jpg
END:VEVENT
BEGIN:VEVENT
DTSTART;TZID=Europe/Oslo:20260416T193000
DTEND;TZID=Europe/Oslo:20260416T203000
DTSTAMP:20260423T134844
CREATED:20260407T120506Z
LAST-MODIFIED:20260407T120506Z
UID:23409-1776367800-1776371400@visitulstein.no
SUMMARY:The Drama
DESCRIPTION:
URL:https://visitulstein.no/kalender/the-drama-6/
CATEGORIES:Kino
ATTACH;FMTTYPE=image/jpeg:https://visitulstein.no/wp-content/uploads/2026/03/56b3dcd429cb515de55feaecdff855a5cf8f3c51-3996x2160-1.jpg
END:VEVENT
BEGIN:VEVENT
DTSTART;TZID=Europe/Oslo:20260416T173000
DTEND;TZID=Europe/Oslo:20260416T183000
DTSTAMP:20260423T134844
CREATED:20260327T121050Z
LAST-MODIFIED:20260327T121050Z
UID:23325-1776360600-1776364200@visitulstein.no
SUMMARY:Havfolket
DESCRIPTION:
URL:https://visitulstein.no/kalender/havfolket-3/
CATEGORIES:Kino
ATTACH;FMTTYPE=image/jpeg:https://visitulstein.no/wp-content/uploads/2026/02/1b3c5b8f933f10e176832117fd6bec1706537b18-2993x2160-1.jpg
END:VEVENT
BEGIN:VEVENT
DTSTART;TZID=Europe/Oslo:20260415T201500
DTEND;TZID=Europe/Oslo:20260415T211500
DTSTAMP:20260423T134844
CREATED:20260408T080515Z
LAST-MODIFIED:20260408T080515Z
UID:23441-1776284100-1776287700@visitulstein.no
SUMMARY:The Drama
DESCRIPTION:
URL:https://visitulstein.no/kalender/the-drama-7/
CATEGORIES:Kino
ATTACH;FMTTYPE=image/jpeg:https://visitulstein.no/wp-content/uploads/2026/04/6c64e202ced635432183915f412b6c7458ecb548-3996x2160-1.jpg
END:VEVENT
BEGIN:VEVENT
DTSTART;TZID=Europe/Oslo:20260415T201500
DTEND;TZID=Europe/Oslo:20260415T211500
DTSTAMP:20260423T134844
CREATED:20260407T120505Z
LAST-MODIFIED:20260407T120505Z
UID:23405-1776284100-1776287700@visitulstein.no
SUMMARY:I Swear
DESCRIPTION:
URL:https://visitulstein.no/kalender/i-swear/
CATEGORIES:Kino
ATTACH;FMTTYPE=image/jpeg:https://visitulstein.no/wp-content/uploads/2026/02/3e6d39c53916378e98bd3f754dd115b00afec745-3500x2333-1.jpg
END:VEVENT
BEGIN:VEVENT
DTSTART;TZID=Europe/Oslo:20260415T200000
DTEND;TZID=Europe/Oslo:20260415T210000
DTSTAMP:20260423T134844
CREATED:20260224T214402Z
LAST-MODIFIED:20260224T214402Z
UID:23023-1776283200-1776286800@visitulstein.no
SUMMARY:Marit Larsen m/band
DESCRIPTION:
URL:https://visitulstein.no/kalender/marit-larsen-m-band/
CATEGORIES:Kulturprogram
ATTACH;FMTTYPE=image/jpeg:https://visitulstein.no/wp-content/uploads/2026/02/29c64e84c4fc68ff7517ac36a796662799ebda63-3841x2011-1.jpg
END:VEVENT
BEGIN:VEVENT
DTSTART;TZID=Europe/Oslo:20260415T180000
DTEND;TZID=Europe/Oslo:20260415T190000
DTSTAMP:20260423T134844
CREATED:20260407T120506Z
LAST-MODIFIED:20260407T120506Z
UID:23407-1776276000-1776279600@visitulstein.no
SUMMARY:Super Mario Galaxy filmen
DESCRIPTION:
URL:https://visitulstein.no/kalender/super-mario-galaxy-filmen-15/
CATEGORIES:Kino
ATTACH;FMTTYPE=image/jpeg:https://visitulstein.no/wp-content/uploads/2026/03/656036a5083c7e7ef2ad11b17f3252ac0d7d005a-3596x1500-1.jpg
END:VEVENT
BEGIN:VEVENT
DTSTART;TZID=Europe/Oslo:20260412T204000
DTEND;TZID=Europe/Oslo:20260412T214000
DTSTAMP:20260423T134844
CREATED:20260407T120506Z
LAST-MODIFIED:20260407T120506Z
UID:23408-1776026400-1776030000@visitulstein.no
SUMMARY:The Drama
DESCRIPTION:
URL:https://visitulstein.no/kalender/the-drama-5/
CATEGORIES:Kino
ATTACH;FMTTYPE=image/jpeg:https://visitulstein.no/wp-content/uploads/2026/03/56b3dcd429cb515de55feaecdff855a5cf8f3c51-3996x2160-1.jpg
END:VEVENT
BEGIN:VEVENT
DTSTART;TZID=Europe/Oslo:20260412T200000
DTEND;TZID=Europe/Oslo:20260412T210000
DTSTAMP:20260423T134844
CREATED:20260406T100509Z
LAST-MODIFIED:20260406T100509Z
UID:23389-1776024000-1776027600@visitulstein.no
SUMMARY:The Drama
DESCRIPTION:
URL:https://visitulstein.no/kalender/the-drama-3/
CATEGORIES:Kino
ATTACH;FMTTYPE=image/jpeg:https://visitulstein.no/wp-content/uploads/2026/03/56b3dcd429cb515de55feaecdff855a5cf8f3c51-3996x2160-1.jpg
END:VEVENT
BEGIN:VEVENT
DTSTART;TZID=Europe/Oslo:20260412T190000
DTEND;TZID=Europe/Oslo:20260412T200000
DTSTAMP:20260423T134844
CREATED:20260224T214359Z
LAST-MODIFIED:20260224T214359Z
UID:23021-1776020400-1776024000@visitulstein.no
SUMMARY:Dora Thorhallsdottir - Livet ass...
DESCRIPTION:
URL:https://visitulstein.no/kalender/dora-thorhallsdottir-livet-ass/
CATEGORIES:Kulturprogram
ATTACH;FMTTYPE=image/png:https://visitulstein.no/wp-content/uploads/2026/02/28b52a72e281004abd72c40aab82e821378f492c-1920x1080-1.png
END:VEVENT
BEGIN:VEVENT
DTSTART;TZID=Europe/Oslo:20260412T173000
DTEND;TZID=Europe/Oslo:20260412T183000
DTSTAMP:20260423T134844
CREATED:20260407T120506Z
LAST-MODIFIED:20260407T120506Z
UID:23406-1776015000-1776018600@visitulstein.no
SUMMARY:Project Hail Mary
DESCRIPTION:
URL:https://visitulstein.no/kalender/project-hail-mary-8/
CATEGORIES:Kino
ATTACH;FMTTYPE=image/jpeg:https://visitulstein.no/wp-content/uploads/2026/02/afb872ba6b7e2ec5458ec55416e36d21c4ea1ab6-4000x2667-1.jpg
END:VEVENT
BEGIN:VEVENT
DTSTART;TZID=Europe/Oslo:20260412T173000
DTEND;TZID=Europe/Oslo:20260412T183000
DTSTAMP:20260423T134844
CREATED:20260406T100508Z
LAST-MODIFIED:20260406T100508Z
UID:23386-1776015000-1776018600@visitulstein.no
SUMMARY:I Swear
DESCRIPTION:
URL:https://visitulstein.no/kalender/i-swear-9/
CATEGORIES:Kino
ATTACH;FMTTYPE=image/jpeg:https://visitulstein.no/wp-content/uploads/2026/02/3e6d39c53916378e98bd3f754dd115b00afec745-3500x2333-1.jpg
END:VEVENT
BEGIN:VEVENT
DTSTART;TZID=Europe/Oslo:20260412T151500
DTEND;TZID=Europe/Oslo:20260412T161500
DTSTAMP:20260423T134844
CREATED:20260406T100509Z
LAST-MODIFIED:20260406T100509Z
UID:23388-1776006900-1776010500@visitulstein.no
SUMMARY:Super Mario Galaxy filmen
DESCRIPTION:
URL:https://visitulstein.no/kalender/super-mario-galaxy-filmen-14/
CATEGORIES:Kino
ATTACH;FMTTYPE=image/jpeg:https://visitulstein.no/wp-content/uploads/2026/03/656036a5083c7e7ef2ad11b17f3252ac0d7d005a-3596x1500-1.jpg
END:VEVENT
BEGIN:VEVENT
DTSTART;TZID=Europe/Oslo:20260411T160000
DTEND;TZID=Europe/Oslo:20260411T170000
DTSTAMP:20260423T134844
CREATED:20260406T100509Z
LAST-MODIFIED:20260406T100509Z
UID:23387-1775923200-1775926800@visitulstein.no
SUMMARY:Super Mario Galaxy filmen
DESCRIPTION:
URL:https://visitulstein.no/kalender/super-mario-galaxy-filmen-13/
CATEGORIES:Kino
ATTACH;FMTTYPE=image/jpeg:https://visitulstein.no/wp-content/uploads/2026/03/656036a5083c7e7ef2ad11b17f3252ac0d7d005a-3596x1500-1.jpg
END:VEVENT
BEGIN:VEVENT
DTSTART;TZID=Europe/Oslo:20260410T200000
DTEND;TZID=Europe/Oslo:20260410T210000
DTSTAMP:20260423T134844
CREATED:20260326T150515Z
LAST-MODIFIED:20260326T150515Z
UID:23318-1775851200-1775854800@visitulstein.no
SUMMARY:The Drama
DESCRIPTION:
URL:https://visitulstein.no/kalender/the-drama-2/
CATEGORIES:Kino
ATTACH;FMTTYPE=image/jpeg:https://visitulstein.no/wp-content/uploads/2026/03/56b3dcd429cb515de55feaecdff855a5cf8f3c51-3996x2160-1.jpg
END:VEVENT
END:VCALENDAR